BEGIN:VCALENDAR
VERSION:2.0
PRODID:-//For The Generations - Maine - ECPv6.15.11//NONSGML v1.0//EN
CALSCALE:GREGORIAN
METHOD:PUBLISH
X-ORIGINAL-URL:https://megreenamendment.org
X-WR-CALDESC:Events for For The Generations - Maine
REFRESH-INTERVAL;VALUE=DURATION:PT1H
X-Robots-Tag:noindex
X-PUBLISHED-TTL:PT1H
BEGIN:VTIMEZONE
TZID:America/New_York
BEGIN:DAYLIGHT
TZOFFSETFROM:-0500
TZOFFSETTO:-0400
TZNAME:EDT
DTSTART:20200308T070000
END:DAYLIGHT
BEGIN:STANDARD
TZOFFSETFROM:-0400
TZOFFSETTO:-0500
TZNAME:EST
DTSTART:20201101T060000
END:STANDARD
BEGIN:DAYLIGHT
TZOFFSETFROM:-0500
TZOFFSETTO:-0400
TZNAME:EDT
DTSTART:20210314T070000
END:DAYLIGHT
BEGIN:STANDARD
TZOFFSETFROM:-0400
TZOFFSETTO:-0500
TZNAME:EST
DTSTART:20211107T060000
END:STANDARD
BEGIN:DAYLIGHT
TZOFFSETFROM:-0500
TZOFFSETTO:-0400
TZNAME:EDT
DTSTART:20220313T070000
END:DAYLIGHT
BEGIN:STANDARD
TZOFFSETFROM:-0400
TZOFFSETTO:-0500
TZNAME:EST
DTSTART:20221106T060000
END:STANDARD
BEGIN:DAYLIGHT
TZOFFSETFROM:-0500
TZOFFSETTO:-0400
TZNAME:EDT
DTSTART:20230312T070000
END:DAYLIGHT
BEGIN:STANDARD
TZOFFSETFROM:-0400
TZOFFSETTO:-0500
TZNAME:EST
DTSTART:20231105T060000
END:STANDARD
END:VTIMEZONE
BEGIN:VEVENT
DTSTART;TZID=America/New_York:20210713T190000
DTEND;TZID=America/New_York:20210713T203000
DTSTAMP:20260422T071252
CREATED:20210427T130542Z
LAST-MODIFIED:20210427T130542Z
UID:8714-1626202800-1626208200@megreenamendment.org
SUMMARY:Green Amendment Day: A Panel of Leading EJ Voices
DESCRIPTION:Join a presentation and panel of leading environmental justice voices from across the nation\, united in ending environmental racism and restoring environmental justice through constitutional empowerment. \nThis panel will launch the inaugural Green Amendment Day\, to be held every July 13. \nPanelists include: Kim Gaddy\, Kerri Evelyn Harris\, Senator Antoinette Sedillo Lopez\, Dr. Sacoby Wilson\, Terry Sloan\, and Founder of the Green Amendment movement Maya van Rossum. The Panel will be moderated by Maria Payan. \nMore information and event details coming soon. Please register in advance here. \nTuesday\, July 13th at 7:00pm EDT on Zoom.
URL:https://megreenamendment.org/events/green-amendment-day-a-panel-of-leading-ej-voices/
ATTACH;FMTTYPE=image/png:https://megreenamendment.org/wp-content/uploads/sites/11/Green-Amendment-Day-Panel-7.13.21-e1619528658540.png
END:VEVENT
BEGIN:VEVENT
DTSTART;TZID=America/New_York:20220401T120000
DTEND;TZID=America/New_York:20220401T130000
DTSTAMP:20260422T071252
CREATED:20220325T150524Z
LAST-MODIFIED:20220325T150524Z
UID:9338-1648814400-1648818000@megreenamendment.org
SUMMARY:Maine Lunch & Learn: Hosted by the Maine Conservation Voters
DESCRIPTION:Friday\, April 1st @ 12PM-1PM (EST) \nLunch & Learns are an effective tool for the advancement of the Pine Tree Amendment (Maine’s Green Amendment). These events host organization leaders\, activists\, supporters\, and anyone else interested in learning more about the Pine Tree Amendment and its implications. Join Friday’s Lunch & Learn\, hosted by the Maine Conservation Voters. \nRegistration Link coming soon!
URL:https://megreenamendment.org/events/maine-lunch-learn-hosted-by-the-maine-conservation-voters/
END:VEVENT
END:VCALENDAR